BEGIN:VCALENDAR
VERSION:2.0
PRODID:-//Arboretum - ECPv6.15.20//NONSGML v1.0//EN
CALSCALE:GREGORIAN
METHOD:PUBLISH
X-WR-CALNAME:Arboretum
X-ORIGINAL-URL:https://www.arboretum.si
X-WR-CALDESC:Dogodki za Arboretum
REFRESH-INTERVAL;VALUE=DURATION:PT1H
X-Robots-Tag:noindex
X-PUBLISHED-TTL:PT1H
BEGIN:VTIMEZONE
TZID:Europe/Ljubljana
BEGIN:DAYLIGHT
TZOFFSETFROM:+0100
TZOFFSETTO:+0200
TZNAME:CEST
DTSTART:20250330T010000
END:DAYLIGHT
BEGIN:STANDARD
TZOFFSETFROM:+0200
TZOFFSETTO:+0100
TZNAME:CET
DTSTART:20251026T010000
END:STANDARD
BEGIN:DAYLIGHT
TZOFFSETFROM:+0100
TZOFFSETTO:+0200
TZNAME:CEST
DTSTART:20260329T010000
END:DAYLIGHT
BEGIN:STANDARD
TZOFFSETFROM:+0200
TZOFFSETTO:+0100
TZNAME:CET
DTSTART:20261025T010000
END:STANDARD
BEGIN:DAYLIGHT
TZOFFSETFROM:+0100
TZOFFSETTO:+0200
TZNAME:CEST
DTSTART:20270328T010000
END:DAYLIGHT
BEGIN:STANDARD
TZOFFSETFROM:+0200
TZOFFSETTO:+0100
TZNAME:CET
DTSTART:20271031T010000
END:STANDARD
BEGIN:DAYLIGHT
TZOFFSETFROM:+0100
TZOFFSETTO:+0200
TZNAME:CEST
DTSTART:20280326T010000
END:DAYLIGHT
BEGIN:STANDARD
TZOFFSETFROM:+0200
TZOFFSETTO:+0100
TZNAME:CET
DTSTART:20281029T010000
END:STANDARD
END:VTIMEZONE
BEGIN:VEVENT
DTSTART;VALUE=DATE:20260101
DTEND;VALUE=DATE:20270102
DTSTAMP:20260425T185014
CREATED:20260414T050312Z
LAST-MODIFIED:20260420T200044Z
UID:33884-1767225600-1798847999@www.arboretum.si
SUMMARY:Dinozavri
DESCRIPTION:V Arboretumu se lahko zabavate na velikem otroškem igrišču. Ko se spustite po vseh toboganih in adrenalinskih hitrostnih igralih ter se naveličate skakanja po trampolinu\, lahko pogledate izza visokih sten labirinta. Pričaral se vam bo razgled na dinozavre\, ki so videti kot pravi. Zazdelo se vam bo\, da ste se znašli v zgodovinskem obdobju\, ko so na svetu vladale te orjaške živali. V svoji naravni velikosti so prav strašni na pogled. Toda brez skrbi\, naših 13 dinozavrov je prav prijaznih. Skozi leta so se udomačili\, postali krotki in se najraje družijo z otroki. Pa ste prepričani\, da že vse veste o teh skrivnostnih vretenčarjih? Morda pa izveste kaj novega\, če jih pridete obiskat. Več o dinozavrih \nFotogalerija\nKliknite za več fotografijPobarvajte dinozavre iz Arboretuma!\nNa otroškem blogu Arboretuma Otroški vrtiček si lahko naložite pobarvanke z dinozavri.
URL:https://www.arboretum.si/dogodek-events/dinozavri-2/
LOCATION:Park\, Volčji Potok 3\, Radomlje\, 1235\, Slovenija
CATEGORIES:Razstave
ATTACH;FMTTYPE=image/jpeg:https://www.arboretum.si/wp-content/uploads/2019/10/t-rex-arboretum-dinozavri-1.jpg
END:VEVENT
BEGIN:VEVENT
DTSTART;TZID=Europe/Ljubljana:20260101T080000
DTEND;TZID=Europe/Ljubljana:20261231T180000
DTSTAMP:20260425T185014
CREATED:20260416T204051Z
LAST-MODIFIED:20260420T200213Z
UID:33899-1767254400-1798740000@www.arboretum.si
SUMMARY:Souvani in njihov park v Volčjem Potoku
DESCRIPTION:Multimedijska predstavitev in razstava o Souvanih in njihovem parku v Volčjem Potoku \nArboretum Volčji Potok ima zgodovino. Od leta 1882-1946 je bilo posestvo v lasti družine Souvan\, ki si je tu za bivanje uredila graščino in park. Souvanov park po površini obsega sedmino današnjega Arboretuma\, a predstavlja njegov dragoceni osrednji del in historično jedro zavarovane kulturne dediščine. \nRazstavo o Souvanih in njihovem parku v Volčjem Potoku smo v Arboretumu predstavili jeseni 2017. Konec leta 2019 smo jo razširili v multimedijsko predstavitev. Ta vključuje celostensko projekcijo arhivskih fotografij\, ki prikažejo rast in oblikovanje Souvanovega parka od leta  1898 do 1945. Zgodbe treh ključnih oseb iz Souvanovega parka so predstavljene v zamišljenih osebnih izpovedih. Ferdinandu Souvanu\, Heleni Souvan in Leu Souvanu lahko obiskovalec prisluhne v ločenih prezentacijah. Dodanih je nekaj predmetov\, od katerih vsak po svoje osvetli življenje družine. \nPosebno prizorišče je posvečeno Almi Souvan\, muzi pesnika Josipa Murna. Tam lahko obiskovalec séde pred kamin in prisluhne Murnovim stihom. Ali pa se s telefonom slika kot Alma\, poročena Urbanc. \nMutimedijska predstavitev je umeščena v pritličja Galerije\, ki stoji v srcu Souvanovega parka. Razstava je opremljena s prevodi v nemški\, angleški\, italijanski in hrvaški jezik. Postavitev multimedijske predstavitve Souvani in njihov park v Volčjem Potoku je financiralo Ministrstvo za kulturo Republike Slovenije. \nV galeriji si lahko ogledate še razstavo in multimedijsko predstavitev Ciril Jeglič\, prvi vodja Arboretuma Volčji Potok ter razstavo živalskih plastik Janeza Boljke. \nFotogalerija
URL:https://www.arboretum.si/dogodek-events/souvani-in-njihov-park-v-volcjem-potoku-2/
LOCATION:Galerija Janeza Boljke\, Volčji Potok 3\, Radomlje\, 1235\, Slovenija
CATEGORIES:Razstave
ATTACH;FMTTYPE=image/jpeg:https://www.arboretum.si/wp-content/uploads/2019/11/souvani-in-njihov-park-v-volcjem-potoku.jpg
END:VEVENT
BEGIN:VEVENT
DTSTART;TZID=Europe/Ljubljana:20260101T080000
DTEND;TZID=Europe/Ljubljana:20261231T180000
DTSTAMP:20260425T185014
CREATED:20260416T204122Z
LAST-MODIFIED:20260420T200303Z
UID:33900-1767254400-1798740000@www.arboretum.si
SUMMARY:Ciril Jeglič\, prvi vodja Arboretuma Volčji Potok
DESCRIPTION:Multimedijska predstavitev in razstava »Ciril Jeglič\, prvi vodja Arboretuma Volčji Potok« \nCiril Jeglič (1897-1988) je bil prvi univerzitetno izobražen vrtnar in krajinski arhitekt na Slovenskem. Bil je človek mnogih darov in zanimanj ter izjemne delavnosti. Bil je pedagog\, organizator\, urbanistični\, parkovni in vrtni načrtovalec in plodovit pisec. Zasluga Cirila Jegliča je\, da je Agronomska in gozdarska fakulteta Univerze v Ljubljani za svoj študijski arboretum izbrala podržavljeni Souvanov park v Volčjem Potoku. Brez Jegliča ne bi bilo Arboretuma Volčji Potok. \nRazstava je opremljena s prevodi v nemški\, angleški\, italijanski in hrvaški jezik. \nProjekt je v letu 2021 omogočilo Ministrstvo za kulturo Republike Slovenije. \nV galeriji si lahko ogledate še razstavo in multimedijsko predstavitev Ciril Jeglič\, prvi vodja Arboretuma Volčji Potok ter razstavo živalskih plastik Janeza Boljke.
URL:https://www.arboretum.si/dogodek-events/ciril-jeglic-prvi-vodja-arboretuma-volcji-potok-2/
LOCATION:Galerija Janeza Boljke\, Volčji Potok 3\, Radomlje\, 1235\, Slovenija
CATEGORIES:Razstave
ATTACH;FMTTYPE=image/jpeg:https://www.arboretum.si/wp-content/uploads/2021/12/ciril-jeglic-prvi-vodja.jpg
END:VEVENT
BEGIN:VEVENT
DTSTART;TZID=Europe/Ljubljana:20260228T080000
DTEND;TZID=Europe/Ljubljana:20261101T180000
DTSTAMP:20260425T185014
CREATED:20260416T203947Z
LAST-MODIFIED:20260422T202342Z
UID:33888-1772265600-1793556000@www.arboretum.si
SUMMARY:Razstava kaktusov
DESCRIPTION:V Arboretumu si lahko ogledate edinstveno razstavo kaktusov\, ki vključuje preko 1000 rastlin iz zbirke Dušana Hrovatina. Posebnost zbirke je v raznovrstnosti primerkov in njihovi starosti\, tako da vas razstava zagotovo ne bo pustila ravnodušnih. Najstarejši primerek v rastlinjaku ima že petdeset let. Poleg kaktusov rastlinjak ponuja sočnice\, čebulnice\, mlečke\, tilandsije\, kristate\, bulbe in žive kamenčke. Slednji slovijo po zmožnosti prikrivanja – so kameleoni v svetu rastlin\, saj se njihova barva prilagodi barvi okolice. \nVabljeni k branju člankov: \n– Aloja \n– Velecvetna stapelija \nFotogalerija\nKliknite za več fotografij
URL:https://www.arboretum.si/dogodek-events/razstava-kaktusov-2/
LOCATION:Steklenjak\, Volčji Potok 3\, Radomlje\, 1235\, Slovenia
CATEGORIES:Razstave
ATTACH;FMTTYPE=image/jpeg:https://www.arboretum.si/wp-content/uploads/2019/10/razstava-kaktusov-arboretum-volcji-potok.jpg
END:VEVENT
BEGIN:VEVENT
DTSTART;TZID=Europe/Ljubljana:20260404T080000
DTEND;TZID=Europe/Ljubljana:20260503T180000
DTSTAMP:20260425T185014
CREATED:20260413T191620Z
LAST-MODIFIED:20260420T200743Z
UID:33891-1775289600-1777831200@www.arboretum.si
SUMMARY:Spomladanska razstava cvetja in tulipanov
DESCRIPTION:  \n  \n 4. april – 3. maj Pomlad je čas\, ko narava oživi v vseh svojih barvah in vonjih in v Arboretumu Volčji Potok jo vsako leto doživimo na prav poseben način. Spomladanska razstava cvetja in tulipanov je postala tradicionalna in obiskovalce privablja že več kot trideset let. Tulipani imajo v parku prav posebno mesto\, saj ga z njihovo številčnostjo in barvitostjo postavljajo med najbolj prepoznavne destinacije za ljubitelje teh raznobarvnih lepotic. Poleg tulipanov razstava ponuja tudi širok spekter drugih spomladanskih cvetlic in cvetočih dreves\, kot so narcise\, hijacinte\, magnolije\, japonske češnje in številne druge vrste\, ki skupaj ustvarjajo pravo pomladno simfonijo. V začetku maja jih bodo nadomestili rododendroni in okrasni luki. Zasadili smo tulipane\, ki zacvetijo zelo zgodaj\, nekateri že konec marca\, sledijo jim srednje cvetoči in kasneje pozni tulipani\, ki bodo cveteli še v začetku maja.  \n V času spomladanske razstave je park odprt vsak dan od 8. do 20. ure – tudi med vikendi in prazniki. Parkirišče je brezplačno in urejeno v bližini vhoda. Morebitni gneči pri nakupu vstopnic se lahko obiskovalci izognejo z nakupom prek spleta. Cenik si lahko ogledate TUKAJ.  \nNakup vstopnicFotogalerija\nPripravili smo odgovore na najpogostejša vprašanja o obisku Arboretuma Volčji Potok med spomladansko razstavo.\nKako do Arboretuma? Poti do Arboretuma so dobro označene. Več o tem Kje lahko parkiramo? Parkirate lahko na označenem parkirišču pred vhodom v park. Parkirišče v času spomladanske razstave razširimo na travnate površine v okolici vhoda v park. Parkiranje je brezplačno. Prosto parkirišče vam bodo pomagali najti zadolženi redarji. Parkirišče je brezplačno. Koliko stane vstopnina v park? Trudimo se\, da bi bil obisk parka neprecenljiva izkušnja\, ki bi bila tudi cenovno dostopna. Nudimo ugodne družinske vstopnice. Oglejte si cenik. Vstopnice lahko kupite tudi preko spleta. Spletni nakup vstopnic Kdaj se Arboretum odpre? Kaj pa čez praznike? Park je odprt vsak dan od 8. do 20. ure – tudi za vikende in praznike. Preverite odpiralni čas. Kdaj bodo tulipani najlepši? Začetek in obdobje cvetenja tulipanov je močno odvisno od vremenskih razmer. Kje v parku najdem toaletne prostore? Toaletne prostore najdete pri vhodu v park\, pri pristavi\, v bližini kavarne in na otroškem igrišču. Zemljevid Je ogled Arboretuma zanimiv za otroke? Seveda. Otroci ne bodo navdušeni le nad velikimi drevesi\, zvončkom želja in znamenitim Francoskim vrtom\, zagotovo jim bo v veliko veselje\, če si boste skupaj ogledali razstavo dinozavrov v naravni velikosti ter jim pustili prosto igro na velikem otroškem igrišču\, v aprilu in začetku maja je razširjen z dodatnimi igrali. Utrujeni se bodo prav radi peljali z Arboretskim vlakom in se okrepčali s čim sladkim v kavarni Arboretuma. Več o tem   So psi dobrodošli? Vaši štirinožni spremljevalci bodo hvaležni za dolg sprehod v slikoviti naravi. Zanje plačate vstopnice za pse. Psi morajo biti ves čas na povodcu\, z vrvice jih lahko spustite v posebnem igrišču za kužke\, ki se nahaja v bližini Zgornjega angleškega parka. Imate dinozavre? Seveda. Razstavo dinozavrov v naravni velikosti si lahko ogledate pri otroškem igrišču. Kaj si lahko ogledam poleg tulipanov? V parku cvetijo poljane narcis\, ki jih boste srečali na vsakem koraku. Poleg narcis smo zasadili tudi drugo spomladi cvetoče cvetje\, ki s svojimi barvami oživi grede po parku. V aprilu cvetijo tudi čudovite okrasne češnje in magnolije. Proti koncu aprila pa zacvetijo prvi rododendroni. Ali si lahko ogledam tudi kakšno razstavo? V steklenjakih pri pristavi si lahko ogledate stalno razstavo kaktusov ter razstavo sobnih rastlin\, ananasovk in orhidej. Kje lahko kupim rastline? Rastline lahko kupite v vrtnem centru Arboretuma\, ki se nahaja v bližini vhoda v park. Preverite odpiralni čas. Kakšno bo vreme? Narava je očarljiva v vse letnih časih in v vseh vremenskih pogojih. Kaj pa kosilo? Arboretum je odlična destinacija za celodnevni izlet. V času spomladanske razstave cvetja in tulipanov bo na voljo dodatna gostinska ponudba. Težje hodim. Kako si lahko ogledam tako velik park? Na vhodu v park si lahko brezplačno izposodite invalidski voziček. Da vam bo ob prihodu na voljo\, ga lahko rezervirate na 031 379 705. Po Arboretumu v času spomladanske razstave vozi cestni vlak. Vozi le v lepem vremenu. Vozni red se nahaja na postaji za vlak v drevoredu. Za skupine je obvezna predhodna najava vsaj 14 dni pred obiskom na vhod@arboretum.si. Preverite cenik.  Želimo si vodenega ogleda. Odlična ideja! V Arboretumu organiziramo splošna in strokovna vodenja po parku. Pokličite in rezervirajte svoj termin. Kaj se bo še dogajalo? V Arboretumu skrbimo za pester program. Več o prireditvah preberite v spletnem prireditveniku.
URL:https://www.arboretum.si/dogodek-events/spomladanska-razstava-cvetja-in-tulipanov/
LOCATION:Park\, Volčji Potok 3\, Radomlje\, 1235\, Slovenija
CATEGORIES:Razstave
ATTACH;FMTTYPE=image/jpeg:https://www.arboretum.si/wp-content/uploads/2022/08/Pomlad-Arboretum-Volcji-Potok-Foto-Mateja-Racevski-31.jpg
END:VEVENT
END:VCALENDAR